BEGIN:VCALENDAR
VERSION:2.0
PRODID:spatie/icalendar-generator
DESCRIPTION:Events from Red de Ciudades Machadianas
X-WR-CALDESC:Events from Red de Ciudades Machadianas
REFRESH-INTERVAL;VALUE=DURATION:PT1440M
X-PUBLISHED-TTL:PT1440M
BEGIN:VTIMEZONE
TZID:Europe/Madrid
BEGIN:STANDARD
DTSTART:20251026T030000Z
TZOFFSETFROM:+0200
TZOFFSETTO:+0100
END:STANDARD
BEGIN:DAYLIGHT
DTSTART:20260329T020000Z
TZOFFSETFROM:+0100
TZOFFSETTO:+0200
END:DAYLIGHT
BEGIN:STANDARD
DTSTART:20261025T030000Z
TZOFFSETFROM:+0200
TZOFFSETTO:+0100
END:STANDARD
END:VTIMEZONE
BEGIN:VTIMEZONE
TZID:UTC
BEGIN:STANDARD
DTSTART:20250727T114114Z
TZOFFSETFROM:+0000
TZOFFSETTO:+0000
END:STANDARD
END:VTIMEZONE
BEGIN:VEVENT
UID:5-5
DTSTAMP:20260423T114114Z
SUMMARY:Memorial democrático de Segovia
LOCATION:
ORGANIZER;CN=baianai:MAILTO:info@baianai.es
DTSTART;TZID=Europe/Madrid:20260523T113000
DTEND;TZID=Europe/Madrid:20260523T123000
X-ALT-DESC;FMTTYPE=TEXT/HTML:<p>Memorial Democrático de Segovia. Exposici
 ón permanente La cárcel franquista (1936-1977).</p>\n
CATEGORIES:General,  Visitas guiadas
URL;VALUE=URI:https://redciudadesmachadianas.org/evento/memorial-democratic
 o-de-segovia-4/
METHOD:PUBLISH
END:VEVENT
END:VCALENDAR